BEGIN:VCALENDAR
VERSION:2.0
PRODID:-//R3dLine - ECPv6.15.13//NONSGML v1.0//EN
CALSCALE:GREGORIAN
METHOD:PUBLISH
X-WR-CALNAME:R3dLine
X-ORIGINAL-URL:https://r3dline.fr
X-WR-CALDESC:Évènements pour R3dLine
REFRESH-INTERVAL;VALUE=DURATION:PT1H
X-Robots-Tag:noindex
X-PUBLISHED-TTL:PT1H
BEGIN:VTIMEZONE
TZID:Europe/Paris
BEGIN:DAYLIGHT
TZOFFSETFROM:+0100
TZOFFSETTO:+0200
TZNAME:CEST
DTSTART:20220327T010000
END:DAYLIGHT
BEGIN:STANDARD
TZOFFSETFROM:+0200
TZOFFSETTO:+0100
TZNAME:CET
DTSTART:20221030T010000
END:STANDARD
BEGIN:DAYLIGHT
TZOFFSETFROM:+0100
TZOFFSETTO:+0200
TZNAME:CEST
DTSTART:20230326T010000
END:DAYLIGHT
BEGIN:STANDARD
TZOFFSETFROM:+0200
TZOFFSETTO:+0100
TZNAME:CET
DTSTART:20231029T010000
END:STANDARD
BEGIN:DAYLIGHT
TZOFFSETFROM:+0100
TZOFFSETTO:+0200
TZNAME:CEST
DTSTART:20240331T010000
END:DAYLIGHT
BEGIN:STANDARD
TZOFFSETFROM:+0200
TZOFFSETTO:+0100
TZNAME:CET
DTSTART:20241027T010000
END:STANDARD
END:VTIMEZONE
BEGIN:VEVENT
DTSTART;TZID=Europe/Paris:20230527T210000
DTEND;TZID=Europe/Paris:20230527T230000
DTSTAMP:20260421T161129
CREATED:20230430T122431Z
LAST-MODIFIED:20230430T122431Z
UID:123409-1685221200-1685228400@r3dline.fr
SUMMARY:Concert El Gato Negro - Festi'mai
DESCRIPTION:On se retrouve pour une excellente programmation au Festi’mai\, le samedi 27 mai en compagnie de El Gato Negro à 21h à Tarnos (40) !\nPlus d’infos ici !
URL:https://r3dline.fr/event/concert-el-gato-negro-festimai/
LOCATION:Festi’mai\, Tarnos\, 40000\, France
CATEGORIES:EL GATO NEGRO
ATTACH;FMTTYPE=image/png:https://r3dline.fr/wp-content/uploads/2017/10/Capture-d’écran-2019-02-05-à-11.28.08-1.png
END:VEVENT
BEGIN:VEVENT
DTSTART;TZID=Europe/Paris:20230527T203000
DTEND;TZID=Europe/Paris:20230527T230000
DTSTAMP:20260421T161129
CREATED:20230430T115535Z
LAST-MODIFIED:20230430T115535Z
UID:123391-1685219400-1685228400@r3dline.fr
SUMMARY:Concert Sidi Wacho - Presles
DESCRIPTION:Cette année\, La Fête de la Lutte Ouvrière vous a préparé une programmation riche !\nSidi Wacho en concert à 20h30 samedi 27 mai à Presles (95).\nPlus d’infos ici ! 
URL:https://r3dline.fr/event/concert-sidi-wacho-presles/
LOCATION:La Fête de LO\, Presles\, 95000\, France
CATEGORIES:SIDI WACHO
ATTACH;FMTTYPE=image/png:https://r3dline.fr/wp-content/uploads/2017/10/sidi-wacho-nouvel-album.png
END:VEVENT
BEGIN:VEVENT
DTSTART;TZID=Europe/Paris:20230527T190000
DTEND;TZID=Europe/Paris:20230528T010000
DTSTAMP:20260421T161129
CREATED:20230430T121258Z
LAST-MODIFIED:20230430T121258Z
UID:123403-1685214000-1685235600@r3dline.fr
SUMMARY:Concert Krav Boca - Rhino Féroces
DESCRIPTION:On se retrouve pour le Festival Rhino Féroces du 26 au 27 mai à Montaigu (85).\nConcert de Krav Boca le samedi 27 mai ! Plus d’infos ici ! 
URL:https://r3dline.fr/event/concert-krav-boca-rhino-feroces/
LOCATION:Rhino Féroces\, Montaigu\, 85000\, France
CATEGORIES:KRAV BOCA
ATTACH;FMTTYPE=image/jpeg:https://r3dline.fr/wp-content/uploads/2022/10/Krav-Boca_Vignette.jpg
END:VEVENT
BEGIN:VEVENT
DTSTART;TZID=Europe/Paris:20230520T180000
DTEND;TZID=Europe/Paris:20230521T020000
DTSTAMP:20260421T161129
CREATED:20230430T120851Z
LAST-MODIFIED:20230430T120851Z
UID:123400-1684605600-1684634400@r3dline.fr
SUMMARY:Concert Krav Boca - La Voulte
DESCRIPTION:Les Printemps du Crashmusette vous offre une programmation d’exception cette année !\nRendez-vous du 19 au 20 mai à La Voulte (07). Plus d’infos et réservation ! 
URL:https://r3dline.fr/event/concert-krav-boca-la-voulte/
LOCATION:Crashmusette\, La Voulte\, 07000\, France
CATEGORIES:KRAV BOCA
ATTACH;FMTTYPE=image/jpeg:https://r3dline.fr/wp-content/uploads/2022/10/Krav-Boca_Vignette.jpg
END:VEVENT
BEGIN:VEVENT
DTSTART;TZID=Europe/Paris:20230520T180000
DTEND;TZID=Europe/Paris:20230521T020000
DTSTAMP:20260421T161129
CREATED:20230430T111520Z
LAST-MODIFIED:20230430T111520Z
UID:123369-1684605600-1684634400@r3dline.fr
SUMMARY:Festival sur les pointes ! Sidi Wacho\, Alee & Mourad Musset...
DESCRIPTION:Le Kilowatt vous accueille samedi 20 mai pour le Festival sur les pointes à Vitry-sur-Seine (94) !\nUne programmation d’exception : Zoufris Maracas – Sidi Wacho – Gerard Baste & The Slip Squad – Alee & Mourad (La rue ketanou) – Harold – Abdul & The Gang – Waykiki Boys. \nPlus d’infos ici !
URL:https://r3dline.fr/event/festival-sur-les-pointes-sidi-wacho-alee-mourad-musset/
LOCATION:Festival sur les pointes\, Vitry sur seine\, 94000\, France
CATEGORIES:FESTIVAL PLUSIEURS ARTISTES
ATTACH;FMTTYPE=image/png:https://r3dline.fr/wp-content/uploads/2023/04/festival-sur-les-pointes.png
END:VEVENT
BEGIN:VEVENT
DTSTART;TZID=Europe/Paris:20230519T180000
DTEND;TZID=Europe/Paris:20230520T000000
DTSTAMP:20260421T161129
CREATED:20230430T121943Z
LAST-MODIFIED:20230430T121943Z
UID:123406-1684519200-1684540800@r3dline.fr
SUMMARY:Concert Krav Boca - Rock'n'Rural
DESCRIPTION:Vendredi 19 mai à Jaligny-sur-Besbre (03) rendez-vous avec Krav Boca pour le Festival Rock’n’Rural !\nPlus d’infos ici ! 
URL:https://r3dline.fr/event/concert-krav-boca-rocknrural/
LOCATION:Rock’n’rural\, Jaligny sur Besbre\, 03000\, France
CATEGORIES:KRAV BOCA
ATTACH;FMTTYPE=image/jpeg:https://r3dline.fr/wp-content/uploads/2022/10/Krav-Boca_Vignette.jpg
END:VEVENT
BEGIN:VEVENT
DTSTART;TZID=Europe/Paris:20230517T180000
DTEND;TZID=Europe/Paris:20230518T010000
DTSTAMP:20260421T161129
CREATED:20230430T104851Z
LAST-MODIFIED:20230430T104851Z
UID:123366-1684346400-1684371600@r3dline.fr
SUMMARY:Alee & Mourad Musset - Le GrÔ'StivaL#4 2023
DESCRIPTION:Dans le cadre du GrÔ’StivaL#4 2023 organisé par Les Poolettes\, une programmation haute en couleurs vous a été concoctée !\nMercredi 17 mai\, retrouvez Alee & Mourad Musset. Concert à partir de 21h.\nPlus d’infos et réservation ! 
URL:https://r3dline.fr/event/alee-mourad-musset-le-grostival4-2023/
LOCATION:Gro’stival\, Nancy\, 54000\, France
CATEGORIES:ALEE
ATTACH;FMTTYPE=image/jpeg:https://r3dline.fr/wp-content/uploads/2022/10/vignette.jpg
END:VEVENT
BEGIN:VEVENT
DTSTART;TZID=Europe/Paris:20230517T100000
DTEND;TZID=Europe/Paris:20230517T230000
DTSTAMP:20260421T161129
CREATED:20230430T113649Z
LAST-MODIFIED:20230430T113649Z
UID:123382-1684317600-1684364400@r3dline.fr
SUMMARY:Concert Que Tengo - Festival international du documentaire
DESCRIPTION:Dans le cadre du Festival international du documentaire\, vendredi 19 mai à Lasalle (30)\, retrouvez Que Tengo en concert !\nPlus d’infos sur la programmation ! 
URL:https://r3dline.fr/event/concert-que-tengo-festival-international-du-documentaire/
LOCATION:Festival international du documentaire\, Lasalle\, 30000\, France
CATEGORIES:QUE TENGO
ATTACH;FMTTYPE=image/jpeg:https://r3dline.fr/wp-content/uploads/2022/12/Que-Tengo-Vidas-vignette.jpg
END:VEVENT
BEGIN:VEVENT
DTSTART;TZID=Europe/Paris:20230513T203000
DTEND;TZID=Europe/Paris:20230513T230000
DTSTAMP:20260421T161129
CREATED:20230430T114627Z
LAST-MODIFIED:20230430T114627Z
UID:123388-1684009800-1684018800@r3dline.fr
SUMMARY:Concert Sidi Wacho - Dommarien
DESCRIPTION:Concert de Sidi Wacho\, samedi13 mai\, à La Niche du Chien à Plumes à Dommarien (52) à 20h30 !\nInfos programmation ! 
URL:https://r3dline.fr/event/concert-sidi-wacho-dommarien/
LOCATION:La Niche du Chien à Plumes\, Dommarien\, 52000\, France
CATEGORIES:SIDI WACHO
ATTACH;FMTTYPE=image/png:https://r3dline.fr/wp-content/uploads/2017/10/sidi-wacho-nouvel-album.png
END:VEVENT
BEGIN:VEVENT
DTSTART;TZID=Europe/Paris:20230513T180000
DTEND;TZID=Europe/Paris:20230513T220000
DTSTAMP:20260421T161129
CREATED:20230430T104322Z
LAST-MODIFIED:20230430T104322Z
UID:123363-1684000800-1684015200@r3dline.fr
SUMMARY:Concert Alee - CPSA de Combourg
DESCRIPTION:Samedi 13 mai\, venez profiter d’une soirée live avec Alee au CPSA à Combourg (35)\, dans le cadre des 24h de La Biodiversité.\nGratuit !
URL:https://r3dline.fr/event/concert-alee-cpsa-de-combourg/
LOCATION:CPSA de Combourg\, Combourg\, 35000\, France
CATEGORIES:ALEE
ATTACH;FMTTYPE=image/png:https://r3dline.fr/wp-content/uploads/2022/11/ALEE-Nouveau-Printemps.png
END:VEVENT
BEGIN:VEVENT
DTSTART;TZID=Europe/Paris:20230513T093000
DTEND;TZID=Europe/Paris:20230513T230000
DTSTAMP:20260421T161129
CREATED:20230430T113202Z
LAST-MODIFIED:20230430T113202Z
UID:123379-1683970200-1684018800@r3dline.fr
SUMMARY:Concert Que Tengo - Montbazin
DESCRIPTION:Samedi 13 mai\, dans le cadre de la programmation de La Fête de la Garrigue retrouvez Que Tengo à Montbazin (34).\nBeaucoup d’autres animations sont au programme de la journée !\nPlus d’infos ici ! 
URL:https://r3dline.fr/event/concert-que-tengo-montbazin/
LOCATION:Fête de la Garrigue\, Montbazin\, 34000\, France
CATEGORIES:QUE TENGO
ATTACH;FMTTYPE=image/jpeg:https://r3dline.fr/wp-content/uploads/2022/12/Que-Tengo-Vidas-vignette.jpg
END:VEVENT
BEGIN:VEVENT
DTSTART;TZID=Europe/Paris:20230512T193000
DTEND;TZID=Europe/Paris:20230513T010000
DTSTAMP:20260421T161129
CREATED:20230430T114309Z
LAST-MODIFIED:20230430T114309Z
UID:123385-1683919800-1683939600@r3dline.fr
SUMMARY:Concert Sidi Wacho - Zephyr Festival
DESCRIPTION:Cette année\, Sidi Wacho est au programme du Zephyr Festival !\nRendez-vous vendredi 12 mai à Saint Jean de Bournay (38).\nRéservation et infos ! 
URL:https://r3dline.fr/event/concert-sidi-wacho-zephyr-festival/
LOCATION:Zephyr Festival\, Saint Jean de Bournay\, 38000\, France
CATEGORIES:SIDI WACHO
ATTACH;FMTTYPE=image/png:https://r3dline.fr/wp-content/uploads/2017/10/sidi-wacho-nouvel-album.png
END:VEVENT
BEGIN:VEVENT
DTSTART;TZID=Europe/Paris:20230512T160000
DTEND;TZID=Europe/Paris:20230512T233000
DTSTAMP:20260421T161129
CREATED:20230430T112731Z
LAST-MODIFIED:20230430T112731Z
UID:123376-1683907200-1683934200@r3dline.fr
SUMMARY:Concert Que Tengo - Grolley
DESCRIPTION:Vendredi 12 mai concert de Que Tengo à Grolley (Suisse) !\nhttps://quetengo.com/
URL:https://r3dline.fr/event/concert-que-tengo-grolley/
LOCATION:Grolley\, Grolley\, Suisse
CATEGORIES:QUE TENGO
ATTACH;FMTTYPE=image/jpeg:https://r3dline.fr/wp-content/uploads/2022/12/Que-Tengo-Vidas-vignette.jpg
END:VEVENT
BEGIN:VEVENT
DTSTART;TZID=Europe/Paris:20230511T203000
DTEND;TZID=Europe/Paris:20230511T233000
DTSTAMP:20260421T161129
CREATED:20230430T120348Z
LAST-MODIFIED:20230430T120348Z
UID:123397-1683837000-1683847800@r3dline.fr
SUMMARY:Concert Krav Boca - Brin de Zinc
DESCRIPTION:Concert punk rap / punk rock !\nJeudi 11 mai retrouvez Krav Boca x Resto Basket au Brin de Zinc à Barberaz (73).\nPlus d’infos ici ! 
URL:https://r3dline.fr/event/concert-krav-boca-brin-de-zinc/
LOCATION:Brin de Zinc\, Barberaz\, 73000\, France
CATEGORIES:KRAV BOCA
ATTACH;FMTTYPE=image/jpeg:https://r3dline.fr/wp-content/uploads/2022/10/Krav-Boca_Vignette.jpg
END:VEVENT
BEGIN:VEVENT
DTSTART;TZID=Europe/Paris:20230511T190000
DTEND;TZID=Europe/Paris:20230511T230000
DTSTAMP:20260421T161129
CREATED:20230430T112353Z
LAST-MODIFIED:20230430T112353Z
UID:123373-1683831600-1683846000@r3dline.fr
SUMMARY:Concert LMA - La Grande Famille
DESCRIPTION:On se donne rendez-vous pour la semaine des cultures urbaines avec DJ Davyd Vener et LMA !\nJeudi 11 mai à La Grande Famille à Pinsaguel (31).\nPlus d’infos ici !
URL:https://r3dline.fr/event/concert-lma-la-grande-famille/
LOCATION:La Grande Famille\, Pinsaguel\, 31120\, France
CATEGORIES:LMA
ATTACH;FMTTYPE=image/png:https://r3dline.fr/wp-content/uploads/2021/11/LMA_250x250.png
END:VEVENT
BEGIN:VEVENT
DTSTART;TZID=Europe/Paris:20230511T180000
DTEND;TZID=Europe/Paris:20230511T233000
DTSTAMP:20260421T161129
CREATED:20230430T103924Z
LAST-MODIFIED:20230430T103924Z
UID:123360-1683828000-1683847800@r3dline.fr
SUMMARY:Alee & Mourad Musset - Les Valseuses Hors les murs
DESCRIPTION:Jeudi 11 mai\, soirée de soutien aux Valseuses\, à 18h30 au CCO de Villeurbanne (69). Une programmation riche vous attend. \nLe bénéfice de la soirée sera reversé aux Valseuses pour contribuer à payer les charges des 2 mois de fermeture administrative et pouvoir accueillir de nouveau du public.\nPlus d’infos et réservation ! 
URL:https://r3dline.fr/event/alee-mourad-musset-les-valseuses-hors-les-murs/
LOCATION:CCO Villeurbanne\, Villeurbanne\, 69100\, France
CATEGORIES:ALEE
ATTACH;FMTTYPE=image/jpeg:https://r3dline.fr/wp-content/uploads/2022/10/vignette.jpg
END:VEVENT
BEGIN:VEVENT
DTSTART;TZID=Europe/Paris:20230505T180000
DTEND;TZID=Europe/Paris:20230506T020000
DTSTAMP:20260421T161129
CREATED:20230430T120024Z
LAST-MODIFIED:20230430T120024Z
UID:123394-1683309600-1683338400@r3dline.fr
SUMMARY:Concert Krav Boca - Festival Zikenstock
DESCRIPTION:Krav Boca en concert au Festival Zikenstock vendredi 5 mai à Le Cateau Cambresis (59).\nPlus d’infos ici !
URL:https://r3dline.fr/event/concert-krav-boca-festival-zikenstock/
LOCATION:Festival Zikenstock\, Le Cateau Cambresis\, 59000\, France
CATEGORIES:KRAV BOCA
ATTACH;FMTTYPE=image/jpeg:https://r3dline.fr/wp-content/uploads/2022/10/Krav-Boca_Vignette.jpg
END:VEVENT
BEGIN:VEVENT
DTSTART;TZID=Europe/Paris:20230430T190000
DTEND;TZID=Europe/Paris:20230430T233000
DTSTAMP:20260421T161129
CREATED:20230421T135613Z
LAST-MODIFIED:20230421T135613Z
UID:123346-1682881200-1682897400@r3dline.fr
SUMMARY:Sidi Wacho - Concert La Rayonne
DESCRIPTION:Dimanche 30 avril venez passer votre soirée en compagnie de Sidi Wacho à La Rayonne de Villeurbanne (69).\nPlus d’infos et réservations !
URL:https://r3dline.fr/event/sidi-wacho-concert-la-rayonne/
LOCATION:La Rayonne\, Villeurbanne\, 69100\, France
CATEGORIES:SIDI WACHO
ATTACH;FMTTYPE=image/png:https://r3dline.fr/wp-content/uploads/2017/10/sidi-wacho-nouvel-album.png
END:VEVENT
BEGIN:VEVENT
DTSTART;TZID=Europe/Paris:20230429T210000
DTEND;TZID=Europe/Paris:20230430T003000
DTSTAMP:20260421T161129
CREATED:20230421T140125Z
LAST-MODIFIED:20230421T140125Z
UID:123349-1682802000-1682814600@r3dline.fr
SUMMARY:Sidi Wacho - Triplettes Social Club
DESCRIPTION:Sidi Wacho et Padgeko en concert aux Triplettes Social Club à Amberieu-en-Bugey (01)\, une soirée à ne pas manquer !\nPlus d’infos ici
URL:https://r3dline.fr/event/sidi-wacho-triplettes-social-club/
LOCATION:Triplettes social club\, Amberieu-en-Bugey\, 01500\, France
CATEGORIES:SIDI WACHO
ATTACH;FMTTYPE=image/png:https://r3dline.fr/wp-content/uploads/2017/10/sidi-wacho-nouvel-album.png
END:VEVENT
BEGIN:VEVENT
DTSTART;TZID=Europe/Paris:20230422T220000
DTEND;TZID=Europe/Paris:20230422T233000
DTSTAMP:20260421T161129
CREATED:20230421T140855Z
LAST-MODIFIED:20230421T140855Z
UID:123352-1682200800-1682206200@r3dline.fr
SUMMARY:Sidi Wacho - Teuf en Commun
DESCRIPTION:Un rendez-vous qu’il ne faut pas rater à Nantes ! \nRetrouvez Sidi Wacho à la programmation de Teuf en Commun #3\nPlus d’infos ici
URL:https://r3dline.fr/event/sidi-wacho-teuf-en-commun/
LOCATION:Les ateliers de Bitche\, Nantes\, 44000\, France
CATEGORIES:SIDI WACHO
ATTACH;FMTTYPE=image/png:https://r3dline.fr/wp-content/uploads/2017/10/sidi-wacho-nouvel-album.png
END:VEVENT
BEGIN:VEVENT
DTSTART;TZID=Europe/Paris:20230421T203000
DTEND;TZID=Europe/Paris:20230421T233000
DTSTAMP:20260421T161129
CREATED:20230417T170112Z
LAST-MODIFIED:20230421T140311Z
UID:123343-1682109000-1682119800@r3dline.fr
SUMMARY:Sidi Wacho - Maison de Begon
DESCRIPTION:La Maison de Begon vous donne rendez-vous vendredi 21 avril pour le concert de SIDI WACHO à Blois (41)\nRetrouvez toutes les infos ici
URL:https://r3dline.fr/event/sidi-wacho-maison-de-begon/
LOCATION:Maison de Begon\, Blois\, 41000\, France
CATEGORIES:SIDI WACHO
ATTACH;FMTTYPE=image/png:https://r3dline.fr/wp-content/uploads/2017/10/sidi-wacho-nouvel-album.png
END:VEVENT
BEGIN:VEVENT
DTSTART;TZID=Europe/Paris:20230408T203000
DTEND;TZID=Europe/Paris:20230408T233000
DTSTAMP:20260421T161129
CREATED:20221206T141234Z
LAST-MODIFIED:20221208T133431Z
UID:122945-1680985800-1680996600@r3dline.fr
SUMMARY:Concert HK + ALEE en 1ère partie
DESCRIPTION:On se donne rendez-vous le samedi 8 avril à l’Étage de Rennes (35) pour une soirée aux côtés de HK et ALEE en première partie !\nPlus d’infos ici
URL:https://r3dline.fr/event/concert-hk-alee-en-1ere-partie/
LOCATION:L’Etage\, 1 Esp. Charles de Gaulle\, Rennes\, 35000
CATEGORIES:ALEE
ATTACH;FMTTYPE=image/jpeg:https://r3dline.fr/wp-content/uploads/2022/12/HK_ALEE_-scaled.jpg
END:VEVENT
BEGIN:VEVENT
DTSTART;TZID=Europe/Paris:20230407T203000
DTEND;TZID=Europe/Paris:20230407T233000
DTSTAMP:20260421T161129
CREATED:20221206T154859Z
LAST-MODIFIED:20221208T133427Z
UID:122950-1680899400-1680910200@r3dline.fr
SUMMARY:Concert HK + ALEE 1ère partie
DESCRIPTION:La Carène à Brest (29) vous accueille pour un concert de HK avec en première partie ALEE. Ouverture des portes à 20h\, venez nombreux !\nPlus d’infos ici
URL:https://r3dline.fr/event/concert-hk-alee-1ere-partie/
LOCATION:La Carène\, 30\, rue Jean-Marie Le Bris\, Brest\, 29200\, France
CATEGORIES:ALEE
ATTACH;FMTTYPE=image/jpeg:https://r3dline.fr/wp-content/uploads/2022/12/HK_ALEE_-scaled.jpg
END:VEVENT
BEGIN:VEVENT
DTSTART;TZID=Europe/Paris:20230407T190000
DTEND;TZID=Europe/Paris:20230408T190000
DTSTAMP:20260421T161129
CREATED:20230222T180258Z
LAST-MODIFIED:20230222T181615Z
UID:123148-1680894000-1680980400@r3dline.fr
SUMMARY:Que Tengo - Concert à Foix
DESCRIPTION:Fuego Latino vendredi 7 avril au Centre Culturel de Foix (09) – C’est le moment de venir découvrir le nouvel album Vidas de Que Tengo !\nEn première partie Devi Reed & Anika. Et pour finir la soirée en beauté DJ Spika.\nRéservations ici
URL:https://r3dline.fr/event/que-tengo-concert-foix/
LOCATION:Centre Cuturel de Foix\, 20 avenue du général de Gaulle\, Foix\, 09000\, France
CATEGORIES:QUE TENGO
ATTACH;FMTTYPE=image/jpeg:https://r3dline.fr/wp-content/uploads/2022/12/Que-Tengo-Vidas-pochette-recto-2-scaled.jpg
END:VEVENT
BEGIN:VEVENT
DTSTART;TZID=Europe/Paris:20230325T210000
DTEND;TZID=Europe/Paris:20230325T230000
DTSTAMP:20260421T161129
CREATED:20230222T164857Z
LAST-MODIFIED:20230222T171102Z
UID:123123-1679778000-1679785200@r3dline.fr
SUMMARY:ALEE - Concert Paws Bar
DESCRIPTION:On se retrouve sur la route le samedi 25 mars au Paws Bar à Nantes (44) pour une belle soirée aux côtés de ALEE !\nPaws Bar – Site internet
URL:https://r3dline.fr/event/alee-concert-paws-bar/
LOCATION:PAWS BAR\, 31 Bis Rue la Tour d'Auvergne\, Nantes\, 44200\, France
CATEGORIES:ALEE
ATTACH;FMTTYPE=image/png:https://r3dline.fr/wp-content/uploads/2022/11/ALEE-Nouveau-Printemps.png
END:VEVENT
BEGIN:VEVENT
DTSTART;TZID=Europe/Paris:20230325T203000
DTEND;TZID=Europe/Paris:20230325T233000
DTSTAMP:20260421T161129
CREATED:20230222T181316Z
LAST-MODIFIED:20230222T181604Z
UID:123152-1679776200-1679787000@r3dline.fr
SUMMARY:Mary May en 1ère partie de Danakil - La Clef
DESCRIPTION:Samedi 25 mars Mary May fera la 1ère partie de Danakil à La Clef de Saint-Germain-en-Laye (78).\nLa promesse du belle soirée !\nInfos et réservations
URL:https://r3dline.fr/event/mary-may-en-1ere-partie-de-danakil-la-clef/
LOCATION:La Clef\, 46 Rue de Mareil\, Saint Germaine en Laye\, 78100\, France
CATEGORIES:MARY MAY
ATTACH;FMTTYPE=image/jpeg:https://r3dline.fr/wp-content/uploads/2023/02/NA-PESI-YO.jpg
END:VEVENT
BEGIN:VEVENT
DTSTART;TZID=Europe/Paris:20230325T193000
DTEND;TZID=Europe/Paris:20230325T233000
DTSTAMP:20260421T161129
CREATED:20230222T174645Z
LAST-MODIFIED:20230223T191229Z
UID:123145-1679772600-1679787000@r3dline.fr
SUMMARY:Sidi Wacho - Concert Le Métaphone
DESCRIPTION:Dans le cadre du festival Les Enchanteurs venez vous régalez et profitez des concerts de Sidi Wacho et La Caravane Passe !\nC’est samedi 25 mars au Métaphone à Oignies (62).\nPlus d’infos et réservations
URL:https://r3dline.fr/event/sidi-wacho-concert-le-metaphone/
LOCATION:Le Métaphone\, Rue Alain Bashung\, Oignies\, 62590\, France
CATEGORIES:SIDI WACHO
ATTACH;FMTTYPE=image/png:https://r3dline.fr/wp-content/uploads/2017/10/sw-callesoundsystem.png
END:VEVENT
BEGIN:VEVENT
DTSTART;TZID=Europe/Paris:20230318T200000
DTEND;TZID=Europe/Paris:20230318T220000
DTSTAMP:20260421T161129
CREATED:20230222T173915Z
LAST-MODIFIED:20230222T181610Z
UID:123142-1679169600-1679176800@r3dline.fr
SUMMARY:Que Tengo - La Petite Fête de l'Arbre
DESCRIPTION:Que Tengo sera à Lodève pour La Petite Fête de l’Arbre ! Concert samedi à 20h00 à ne pas manquer !\nPlus d’infos et réservations ici
URL:https://r3dline.fr/event/que-tengo-la-petite-fete-de-larbre/
LOCATION:La petite fête de l’arbre\, Av. Dr Joseph Maury\, Lodève\, France
CATEGORIES:QUE TENGO
ATTACH;FMTTYPE=image/jpeg:https://r3dline.fr/wp-content/uploads/2022/12/Que-Tengo-Vidas-pochette-recto-2-scaled.jpg
END:VEVENT
BEGIN:VEVENT
DTSTART;TZID=Europe/Paris:20230311T170000
DTEND;TZID=Europe/Paris:20230311T233000
DTSTAMP:20260421T161129
CREATED:20230222T182658Z
LAST-MODIFIED:20230222T182746Z
UID:123156-1678554000-1678577400@r3dline.fr
SUMMARY:Mary May - MPT Victor Jara - Concert 100% féminin
DESCRIPTION:L’association VAVM organise un événement débat et concerts 100% féminin !\nÀ la MPT Victor Jara de Champs-sur-Maren (77)\, retrouvez une belle programmation le samedi 11 mars : 17h débat – 20h concerts de Sandy Mango et Mary May – 22h30 Jam Session.\nVenez nombreux et nombreuses !\nRetrouvez l’événement facebook ici
URL:https://r3dline.fr/event/mary-may-mpt-victor-jara-concert-100-feminin/
LOCATION:MPT Victor Jara\, 2 avenue des pyramides\, Champs sur Marne\, France
CATEGORIES:MARY MAY
ATTACH;FMTTYPE=image/jpeg:https://r3dline.fr/wp-content/uploads/2023/02/NA-PESI-YO.jpg
END:VEVENT
BEGIN:VEVENT
DTSTART;TZID=Europe/Paris:20230311T163000
DTEND;TZID=Europe/Paris:20230312T163000
DTSTAMP:20260421T161129
CREATED:20230222T173157Z
LAST-MODIFIED:20230222T181549Z
UID:123138-1678552200-1678638600@r3dline.fr
SUMMARY:Le Jardin Moderne - Krav Boca
DESCRIPTION:Rendez-vous samedi 11 mars pour le festival de punk Zéro Fest à Rennes !\nUne programmation de qualité\, Krav Boca – Poésie Zéro – Mégadef – Resto Basket – Guests\, ça va être le feu !\nPlus d’infos ici
URL:https://r3dline.fr/event/le-jardin-moderne-krav-boca/
LOCATION:Jardin Moderne\, 11 rue du Manoir de Servigné\, Rennes\, 35000\, France
CATEGORIES:KRAV BOCA
ATTACH;FMTTYPE=image/jpeg:https://r3dline.fr/wp-content/uploads/2022/12/Krav-Boca-vignette.jpg
END:VEVENT
END:VCALENDAR